BEGIN:VCALENDAR
PRODID:-//Microsoft Corporation//Outlook 16.0 MIMEDIR//EN
VERSION:2.0
METHOD:REQUEST
X-MS-OLK-FORCEINSPECTOROPEN:TRUE
BEGIN:VTIMEZONE
TZID:Eastern Standard Time
BEGIN:STANDARD
DTSTART:16011104T020000
RRULE:FREQ=YEARLY;BYDAY=1SU;BYMONTH=11
TZOFFSETFROM:-0400
TZOFFSETTO:-0500
END:STANDARD
BEGIN:DAYLIGHT
DTSTART:16010311T020000
RRULE:FREQ=YEARLY;BYDAY=2SU;BYMONTH=3
TZOFFSETFROM:-0500
TZOFFSETTO:-0400
END:DAYLIGHT
END:VTIMEZONE
BEGIN:VEVENT
ATTENDEE;CN="Corey, Pamela L. (Fed)";RSVP=TRUE:mailto:pamela.corey@nist.gov
ATTENDEE;CN="Sefcik, David A. (Fed)";RSVP=TRUE:mailto:david.sefcik@nist.gov
ATTENDEE;CN="Hicks, Micheal M. (Fed)";RSVP=TRUE:mailto:micheal.hicks@nist.g
	ov
CLASS:PUBLIC
CREATED:20260217T132421Z
DESCRIPTION: \n\n__________________________________________________________
	______________________\n\nMicrosoft Teams meeting \n\nJoin: https://teams.
	microsoft.com/meet/27555789846471?p=oWzR8i2HGWY4pDuKFE <https://gcc02.safe
	links.protection.outlook.com/?url=https%3A%2F%2Fteams.microsoft.com%2Fmeet
	%2F27555789846471%3Fp%3DoWzR8i2HGWY4pDuKFE&data=05%7C02%7Cpamela.corey%40n
	ist.gov%7Cc6b4654ad5e44f5dc91b08de6b353302%7C2ab5d82fd8fa4797a93e054655c61
	dec%7C0%7C0%7C639066073400691022%7CUnknown%7CTWFpbGZsb3d8eyJFbXB0eU1hcGkiO
	nRydWUsIlYiOiIwLjAuMDAwMCIsIlAiOiJXaW4zMiIsIkFOIjoiTWFpbCIsIldUIjoyfQ%3D%3
	D%7C0%7C%7C%7C&sdata=Ji3C5LtbcIVZvTupR8sUCSAf1UCmfX44uqB8v3rTEyY%3D&reserv
	ed=0>  \n\nMeeting ID: 275 557 898 464 71 \n\nPasscode: 9Vc7x2sm \n\n_____
	___________________________\n\nNeed help? <https://gcc02.safelinks.protect
	ion.outlook.com/?url=https%3A%2F%2Faka.ms%2FJoinTeamsMeeting%3Fomkt%3Den-U
	S&data=05%7C02%7Cpamela.corey%40nist.gov%7Cc6b4654ad5e44f5dc91b08de6b35330
	2%7C2ab5d82fd8fa4797a93e054655c61dec%7C0%7C0%7C639066073400721138%7CUnknow
	n%7CTWFpbGZsb3d8eyJFbXB0eU1hcGkiOnRydWUsIlYiOiIwLjAuMDAwMCIsIlAiOiJXaW4zMi
	IsIkFOIjoiTWFpbCIsIldUIjoyfQ%3D%3D%7C0%7C%7C%7C&sdata=PlbHY%2FUgiuol2STbOr
	TKdckL%2BT6Lx9kvQbj5maZJHFM%3D&reserved=0>  | System reference <https://gc
	c02.safelinks.protection.outlook.com/ap/t-59584e83/?url=https%3A%2F%2Fteam
	s.microsoft.com%2Fl%2Fmeetup-join%2F19%253ameeting_NDY5NDMwMzgtMGYxOC00MmE
	xLWFmM2EtNjA4ZDQzMDRjOTdm%2540thread.v2%2F0%3Fcontext%3D%257b%2522Tid%2522
	%253a%25222ab5d82f-d8fa-4797-a93e-054655c61dec%2522%252c%2522Oid%2522%253a
	%252219c03303-ecae-4004-8a41-b229a2f3ed0e%2522%257d&data=05%7C02%7Cpamela.
	corey%40nist.gov%7Cc6b4654ad5e44f5dc91b08de6b353302%7C2ab5d82fd8fa4797a93e
	054655c61dec%7C0%7C0%7C639066073400741138%7CUnknown%7CTWFpbGZsb3d8eyJFbXB0
	eU1hcGkiOnRydWUsIlYiOiIwLjAuMDAwMCIsIlAiOiJXaW4zMiIsIkFOIjoiTWFpbCIsIldUIj
	oyfQ%3D%3D%7C0%7C%7C%7C&sdata=BXyriOJYfbqnvdGoSF6ZuWzL0kTyDURA%2Ff7m6PLQn0
	4%3D&reserved=0>  \n\nJoin on a video conferencing device \n\nTenant key: 
	teams@join.nist.gov \n\nVideo ID: 118 221 860 3 \n\nMore info <https://gcc
	02.safelinks.protection.outlook.com/?url=https%3A%2F%2Fdialinfo.pexgov.com
	%2F%3Fconf%3D1182218603%26ivr%3Dteams%26d%3Djoin.nist.gov&data=05%7C02%7Cp
	amela.corey%40nist.gov%7Cc6b4654ad5e44f5dc91b08de6b353302%7C2ab5d82fd8fa47
	97a93e054655c61dec%7C0%7C0%7C639066073400760034%7CUnknown%7CTWFpbGZsb3d8ey
	JFbXB0eU1hcGkiOnRydWUsIlYiOiIwLjAuMDAwMCIsIlAiOiJXaW4zMiIsIkFOIjoiTWFpbCIs
	IldUIjoyfQ%3D%3D%7C0%7C%7C%7C&sdata=Q3tQq%2BcOWDFbl8qDzVic4F%2FWz3Bz%2FRqu
	zHJyvaDkStw%3D&reserved=0>  \n\nFor organizers: Meeting options <https://g
	cc02.safelinks.protection.outlook.com/?url=https%3A%2F%2Fteams.microsoft.c
	om%2FmeetingOptions%2F%3ForganizerId%3D19c03303-ecae-4004-8a41-b229a2f3ed0
	e%26tenantId%3D2ab5d82f-d8fa-4797-a93e-054655c61dec%26threadId%3D19_meetin
	g_NDY5NDMwMzgtMGYxOC00MmExLWFmM2EtNjA4ZDQzMDRjOTdm%40thread.v2%26messageId
	%3D0%26language%3Den-US&data=05%7C02%7Cpamela.corey%40nist.gov%7Cc6b4654ad
	5e44f5dc91b08de6b353302%7C2ab5d82fd8fa4797a93e054655c61dec%7C0%7C0%7C63906
	6073400779312%7CUnknown%7CTWFpbGZsb3d8eyJFbXB0eU1hcGkiOnRydWUsIlYiOiIwLjAu
	MDAwMCIsIlAiOiJXaW4zMiIsIkFOIjoiTWFpbCIsIldUIjoyfQ%3D%3D%7C0%7C%7C%7C&sdat
	a=%2BkGYGKPBLgg6fEHNQrePhFUPlXxNC28FWJZN3MJPbms%3D&reserved=0>  \n\nPlease
	 Read Before Joining This Meeting: When joining NIST-hosted meetings\, all
	 participants\, including guests\, are asked to refrain from recording the
	 meeting by electronic means without prior written approval from the meeti
	ng host. This includes but is not limited to\, no audio\, video\, and scre
	en recordings made using any device or third-party application.\n\nAdditio
	nally\, if the meeting host chooses to record the meeting\, advance notice
	 (i.e.\, prior to recording) must be provided to all participants\, and pa
	rticipants should be periodically reminded that the meeting is being recor
	ded.\n\n__________________________________________________________________
	______________\n\n \n\n
DTEND;TZID="Eastern Standard Time":20260604T150000
DTSTAMP:20260213T192214Z
DTSTART;TZID="Eastern Standard Time":20260604T140000
LAST-MODIFIED:20260217T132421Z
LOCATION:Microsoft Teams Meeting
ORGANIZER;CN="Koncki, Elizabeth A. Mrs. (Fed)":mailto:elizabeth.koncki@nist
	.gov
PRIORITY:5
SEQUENCE:0
SUMMARY:HOLD for LMIH  RR scales (needs confirmation)
TRANSP:OPAQUE
UID:040000008200E00074C5B7101A82E0080000000040349735F39CDC01000000000000000
	010000000FA55F22F4FC0F349A71B104AF930EDA6
X-ALT-DESC;FMTTYPE=text/html:<html xmlns:v="urn:schemas-microsoft-com:vml" 
	xmlns:o="urn:schemas-microsoft-com:office:office" xmlns:w="urn:schemas-mic
	rosoft-com:office:word" xmlns:m="http://schemas.microsoft.com/office/2004/
	12/omml" xmlns="http://www.w3.org/TR/REC-html40"><head>\n<meta name="Gener
	ator" content="Microsoft Word 15 (filtered medium)"><!--[if !mso]><style>v
	\\:* {behavior:url(#default#VML)\;}\no\\:* {behavior:url(#default#VML)\;}\
	nw\\:* {behavior:url(#default#VML)\;}\n.shape {behavior:url(#default#VML)\
	;}\n</style><![endif]--><style><!--\n/* Font Definitions */\n@font-face\n	
	{font-family:"Cambria Math"\;\n	panose-1:2 4 5 3 5 4 6 3 2 4\;}\n@font-fac
	e\n	{font-family:Aptos\;}\n@font-face\n	{font-family:"Segoe UI"\;\n	panose
	-1:2 11 5 2 4 2 4 2 2 3\;}\n/* Style Definitions */\np.MsoNormal\, li.MsoN
	ormal\, div.MsoNormal\n	{margin:0in\;\n	font-size:12.0pt\;\n	font-family:"
	Aptos"\,sans-serif\;\n	mso-ligatures:standardcontextual\;}\na:link\, span.
	MsoHyperlink\n	{mso-style-priority:99\;\n	color:#467886\;\n	text-decoratio
	n:underline\;}\nspan.me-email-text\n	{mso-style-name:me-email-text\;}\nspa
	n.me-email-text-secondary\n	{mso-style-name:me-email-text-secondary\;}\nsp
	an.me-email-headline\n	{mso-style-name:me-email-headline\;}\nspan.EmailSty
	le23\n	{mso-style-type:personal-compose\;}\n.MsoChpDefault\n	{mso-style-ty
	pe:export-only\;\n	font-size:10.0pt\;\n	mso-ligatures:none\;}\n@page WordS
	ection1\n	{size:8.5in 11.0in\;\n	margin:1.0in 1.0in 1.0in 1.0in\;}\ndiv.Wo
	rdSection1\n	{page:WordSection1\;}\n--></style></head><body lang="EN-US" l
	ink="#467886" vlink="#96607D" style="word-wrap:break-word"><div class="Wor
	dSection1"><p class="MsoNormal"><span style="font-size:11.0pt"><o:p>&nbsp\
	;</o:p></span></p><div><div style="margin-bottom:.25in\;overflow:hidden"><
	p class="MsoNormal"><span style="font-family:&quot\;Segoe UI&quot\;\,sans-
	serif\;color:#242424">____________________________________________________
	____________________________</span><span style="font-family:&quot\;Segoe U
	I&quot\;\,sans-serif\;color:#242424\;mso-ligatures:none"><o:p></o:p></span
	></p></div><div style="margin-bottom:9.0pt"><p class="MsoNormal"><span cla
	ss="me-email-text"><b><span style="font-size:15.0pt\;font-family:&quot\;Se
	goe UI&quot\;\,sans-serif\;color:#242424">Microsoft Teams meeting</span></
	b></span><span style="font-family:&quot\;Segoe UI&quot\;\,sans-serif\;colo
	r:#242424"> <o:p></o:p></span></p></div><div style="margin-bottom:4.5pt\;o
	verflow-wrap: break-word"><p class="MsoNormal"><span class="me-email-text"
	><b><span style="font-size:15.0pt\;font-family:&quot\;Segoe UI&quot\;\,san
	s-serif\;color:#242424">Join: </span></b></span><span style="font-family:&
	quot\;Segoe UI&quot\;\,sans-serif\;color:#242424"><a href="https://gcc02.s
	afelinks.protection.outlook.com/?url=https%3A%2F%2Fteams.microsoft.com%2Fm
	eet%2F27555789846471%3Fp%3DoWzR8i2HGWY4pDuKFE&amp\;data=05%7C02%7Cpamela.c
	orey%40nist.gov%7Cc6b4654ad5e44f5dc91b08de6b353302%7C2ab5d82fd8fa4797a93e0
	54655c61dec%7C0%7C0%7C639066073400691022%7CUnknown%7CTWFpbGZsb3d8eyJFbXB0e
	U1hcGkiOnRydWUsIlYiOiIwLjAuMDAwMCIsIlAiOiJXaW4zMiIsIkFOIjoiTWFpbCIsIldUIjo
	yfQ%3D%3D%7C0%7C%7C%7C&amp\;sdata=Ji3C5LtbcIVZvTupR8sUCSAf1UCmfX44uqB8v3rT
	EyY%3D&amp\;reserved=0" originalsrc="https://teams.microsoft.com/meet/2755
	5789846471?p=oWzR8i2HGWY4pDuKFE" title="Meeting join"><span style="font-si
	ze:15.0pt\;color:#5B5FC7">https://teams.microsoft.com/meet/27555789846471?
	p=oWzR8i2HGWY4pDuKFE</span></a> <o:p></o:p></span></p></div><div style="ma
	rgin-bottom:4.5pt"><p class="MsoNormal"><span class="me-email-text-seconda
	ry"><span style="font-size:10.5pt\;font-family:&quot\;Segoe UI&quot\;\,san
	s-serif\;color:#616161">Meeting ID: </span></span><span class="me-email-te
	xt"><span style="font-size:10.5pt\;font-family:&quot\;Segoe UI&quot\;\,san
	s-serif\;color:#242424">275 557 898 464 71</span></span><span style="font-
	family:&quot\;Segoe UI&quot\;\,sans-serif\;color:#242424"> <o:p></o:p></sp
	an></p></div><div style="margin-bottom:24.0pt"><p class="MsoNormal"><span 
	class="me-email-text-secondary"><span style="font-size:10.5pt\;font-family
	:&quot\;Segoe UI&quot\;\,sans-serif\;color:#616161">Passcode: </span></spa
	n><span class="me-email-text"><span style="font-size:10.5pt\;font-family:&
	quot\;Segoe UI&quot\;\,sans-serif\;color:#242424">9Vc7x2sm</span></span><s
	pan style="font-family:&quot\;Segoe UI&quot\;\,sans-serif\;color:#242424">
	 <o:p></o:p></span></p></div><div style="margin-bottom:9.0pt"><div class="
	MsoNormal" align="center" style="text-align:center"><span style="font-fami
	ly:&quot\;Segoe UI&quot\;\,sans-serif\;color:#242424"><hr size="1" width="
	100%" align="center"></span></div></div><div style="margin-bottom:.25in"><
	p class="MsoNormal"><span style="font-family:&quot\;Segoe UI&quot\;\,sans-
	serif\;color:#242424"><a href="https://gcc02.safelinks.protection.outlook.
	com/?url=https%3A%2F%2Faka.ms%2FJoinTeamsMeeting%3Fomkt%3Den-US&amp\;data=
	05%7C02%7Cpamela.corey%40nist.gov%7Cc6b4654ad5e44f5dc91b08de6b353302%7C2ab
	5d82fd8fa4797a93e054655c61dec%7C0%7C0%7C639066073400721138%7CUnknown%7CTWF
	pbGZsb3d8eyJFbXB0eU1hcGkiOnRydWUsIlYiOiIwLjAuMDAwMCIsIlAiOiJXaW4zMiIsIkFOI
	joiTWFpbCIsIldUIjoyfQ%3D%3D%7C0%7C%7C%7C&amp\;sdata=PlbHY%2FUgiuol2STbOrTK
	dckL%2BT6Lx9kvQbj5maZJHFM%3D&amp\;reserved=0" originalsrc="https://aka.ms/
	JoinTeamsMeeting?omkt=en-US"><span style="font-size:10.5pt\;color:#5B5FC7"
	>Need help?</span></a> </span><span style="font-family:&quot\;Segoe UI&quo
	t\;\,sans-serif\;color:#616161">|</span><span style="font-family:&quot\;Se
	goe UI&quot\;\,sans-serif\;color:#242424"> <a href="https://gcc02.safelink
	s.protection.outlook.com/ap/t-59584e83/?url=https%3A%2F%2Fteams.microsoft.
	com%2Fl%2Fmeetup-join%2F19%253ameeting_NDY5NDMwMzgtMGYxOC00MmExLWFmM2EtNjA
	4ZDQzMDRjOTdm%2540thread.v2%2F0%3Fcontext%3D%257b%2522Tid%2522%253a%25222a
	b5d82f-d8fa-4797-a93e-054655c61dec%2522%252c%2522Oid%2522%253a%252219c0330
	3-ecae-4004-8a41-b229a2f3ed0e%2522%257d&amp\;data=05%7C02%7Cpamela.corey%4
	0nist.gov%7Cc6b4654ad5e44f5dc91b08de6b353302%7C2ab5d82fd8fa4797a93e054655c
	61dec%7C0%7C0%7C639066073400741138%7CUnknown%7CTWFpbGZsb3d8eyJFbXB0eU1hcGk
	iOnRydWUsIlYiOiIwLjAuMDAwMCIsIlAiOiJXaW4zMiIsIkFOIjoiTWFpbCIsIldUIjoyfQ%3D
	%3D%7C0%7C%7C%7C&amp\;sdata=BXyriOJYfbqnvdGoSF6ZuWzL0kTyDURA%2Ff7m6PLQn04%
	3D&amp\;reserved=0" originalsrc="https://teams.microsoft.com/l/meetup-join
	/19%3ameeting_NDY5NDMwMzgtMGYxOC00MmExLWFmM2EtNjA4ZDQzMDRjOTdm%40thread.v2
	/0?context=%7b%22Tid%22%3a%222ab5d82f-d8fa-4797-a93e-054655c61dec%22%2c%22
	Oid%22%3a%2219c03303-ecae-4004-8a41-b229a2f3ed0e%22%7d"><span style="font-
	size:10.5pt\;color:#5B5FC7">System reference</span></a> <o:p></o:p></span>
	</p></div><div style="margin-bottom:4.5pt"><p class="MsoNormal"><span clas
	s="me-email-headline"><b><span style="font-family:&quot\;Segoe UI&quot\;\,
	sans-serif\;color:#242424">Join on a video conferencing device</span></b><
	/span><span style="font-family:&quot\;Segoe UI&quot\;\,sans-serif\;color:#
	242424"> <o:p></o:p></span></p></div><div style="margin-bottom:4.5pt"><p c
	lass="MsoNormal"><span class="me-email-text"><span style="font-size:10.5pt
	\;font-family:&quot\;Segoe UI&quot\;\,sans-serif\;color:#616161">Tenant ke
	y: </span></span><span class="me-email-text"><span style="font-size:10.5pt
	\;font-family:&quot\;Segoe UI&quot\;\,sans-serif\;color:#242424">teams@joi
	n.nist.gov</span></span><span style="font-family:&quot\;Segoe UI&quot\;\,s
	ans-serif\;color:#242424"> <o:p></o:p></span></p></div><div style="margin-
	bottom:4.5pt"><p class="MsoNormal"><span class="me-email-text-secondary"><
	span style="font-size:10.5pt\;font-family:&quot\;Segoe UI&quot\;\,sans-ser
	if\;color:#616161">Video ID: </span></span><span class="me-email-text"><sp
	an style="font-size:10.5pt\;font-family:&quot\;Segoe UI&quot\;\,sans-serif
	\;color:#242424">118 221 860 3</span></span><span style="font-family:&quot
	\;Segoe UI&quot\;\,sans-serif\;color:#242424"> <o:p></o:p></span></p></div
	><div style="margin-bottom:.25in"><p class="MsoNormal"><span style="font-f
	amily:&quot\;Segoe UI&quot\;\,sans-serif\;color:#242424"><a href="https://
	gcc02.safelinks.protection.outlook.com/?url=https%3A%2F%2Fdialinfo.pexgov.
	com%2F%3Fconf%3D1182218603%26ivr%3Dteams%26d%3Djoin.nist.gov&amp\;data=05%
	7C02%7Cpamela.corey%40nist.gov%7Cc6b4654ad5e44f5dc91b08de6b353302%7C2ab5d8
	2fd8fa4797a93e054655c61dec%7C0%7C0%7C639066073400760034%7CUnknown%7CTWFpbG
	Zsb3d8eyJFbXB0eU1hcGkiOnRydWUsIlYiOiIwLjAuMDAwMCIsIlAiOiJXaW4zMiIsIkFOIjoi
	TWFpbCIsIldUIjoyfQ%3D%3D%7C0%7C%7C%7C&amp\;sdata=Q3tQq%2BcOWDFbl8qDzVic4F%
	2FWz3Bz%2FRquzHJyvaDkStw%3D&amp\;reserved=0" originalsrc="https://dialinfo
	.pexgov.com/?conf=1182218603&amp\;ivr=teams&amp\;d=join.nist.gov" target="
	_blank"><span style="font-size:10.5pt\;color:#5B5FC7">More info</span></a>
	 <o:p></o:p></span></p></div><div><p class="MsoNormal"><span class="me-ema
	il-text-secondary"><span style="font-size:10.5pt\;font-family:&quot\;Segoe
	 UI&quot\;\,sans-serif\;color:#616161">For organizers: </span></span><span
	 style="font-family:&quot\;Segoe UI&quot\;\,sans-serif\;color:#242424"><a 
	href="https://gcc02.safelinks.protection.outlook.com/?url=https%3A%2F%2Fte
	ams.microsoft.com%2FmeetingOptions%2F%3ForganizerId%3D19c03303-ecae-4004-8
	a41-b229a2f3ed0e%26tenantId%3D2ab5d82f-d8fa-4797-a93e-054655c61dec%26threa
	dId%3D19_meeting_NDY5NDMwMzgtMGYxOC00MmExLWFmM2EtNjA4ZDQzMDRjOTdm%40thread
	.v2%26messageId%3D0%26language%3Den-US&amp\;data=05%7C02%7Cpamela.corey%40
	nist.gov%7Cc6b4654ad5e44f5dc91b08de6b353302%7C2ab5d82fd8fa4797a93e054655c6
	1dec%7C0%7C0%7C639066073400779312%7CUnknown%7CTWFpbGZsb3d8eyJFbXB0eU1hcGki
	OnRydWUsIlYiOiIwLjAuMDAwMCIsIlAiOiJXaW4zMiIsIkFOIjoiTWFpbCIsIldUIjoyfQ%3D%
	3D%7C0%7C%7C%7C&amp\;sdata=%2BkGYGKPBLgg6fEHNQrePhFUPlXxNC28FWJZN3MJPbms%3
	D&amp\;reserved=0" originalsrc="https://teams.microsoft.com/meetingOptions
	/?organizerId=19c03303-ecae-4004-8a41-b229a2f3ed0e&amp\;tenantId=2ab5d82f-
	d8fa-4797-a93e-054655c61dec&amp\;threadId=19_meeting_NDY5NDMwMzgtMGYxOC00M
	mExLWFmM2EtNjA4ZDQzMDRjOTdm@thread.v2&amp\;messageId=0&amp\;language=en-US
	" target="_blank"><span style="font-size:10.5pt\;color:#5B5FC7">Meeting op
	tions</span></a> <o:p></o:p></span></p></div><div style="margin-top:.25in\
	;margin-bottom:4.5pt"><div><div style="border:solid black 3.0pt\;padding:6
	.0pt 6.0pt 6.0pt 6.0pt"><p><strong><span style="font-size:10.5pt\;font-fam
	ily:&quot\;Segoe UI&quot\;\,sans-serif\;color:#616161">Please Read Before 
	Joining This Meeting:</span></strong><span style="font-size:10.5pt\;font-f
	amily:&quot\;Segoe UI&quot\;\,sans-serif\;color:#616161"> When joining NIS
	T-hosted meetings\, all participants\, including guests\, are asked to ref
	rain from recording the meeting by electronic means without prior written 
	approval from the meeting host. This includes but is not limited to\, no a
	udio\, video\, and screen recordings made using any device or third-party 
	application.<br><br>Additionally\, if the meeting host chooses to record t
	he meeting\, advance notice (i.e.\, prior to recording) must be provided t
	o all participants\, and participants should be periodically reminded that
	 the meeting is being recorded.<o:p></o:p></span></p></div></div></div><di
	v style="margin-bottom:.25in\;overflow:hidden"><p class="MsoNormal"><span 
	style="font-family:&quot\;Segoe UI&quot\;\,sans-serif\;color:#242424">____
	__________________________________________________________________________
	__<o:p></o:p></span></p></div></div><p class="MsoNormal"><span style="font
	-size:11.0pt"><o:p>&nbsp\;</o:p></span></p></div></body></html>
X-MICROSOFT-CDO-BUSYSTATUS:BUSY
X-MICROSOFT-CDO-IMPORTANCE:1
X-MICROSOFT-CDO-INTENDEDSTATUS:BUSY
X-MICROSOFT-DISALLOW-COUNTER:FALSE
X-MS-OLK-APPTLASTSEQUENCE:0
BEGIN:VALARM
TRIGGER:-PT15M
ACTION:DISPLAY
DESCRIPTION:Reminder
END:VALARM
END:VEVENT
END:VCALENDAR
