BEGIN:VCALENDAR
PRODID:-//Microsoft Corporation//Outlook 16.0 MIMEDIR//EN
VERSION:2.0
METHOD:REQUEST
X-MS-OLK-FORCEINSPECTOROPEN:TRUE
BEGIN:VTIMEZONE
TZID:Eastern Standard Time
BEGIN:STANDARD
DTSTART:16011104T020000
RRULE:FREQ=YEARLY;BYDAY=1SU;BYMONTH=11
TZOFFSETFROM:-0400
TZOFFSETTO:-0500
END:STANDARD
BEGIN:DAYLIGHT
DTSTART:16010311T020000
RRULE:FREQ=YEARLY;BYDAY=2SU;BYMONTH=3
TZOFFSETFROM:-0500
TZOFFSETTO:-0400
END:DAYLIGHT
END:VTIMEZONE
BEGIN:VEVENT
ATTENDEE;CN="Sefcik, David A. (Fed)";RSVP=TRUE:mailto:david.sefcik@nist.gov
CLASS:PUBLIC
CREATED:20250401T112407Z
DESCRIPTION:This is the last year (2025) that NIST Handbooks 44\, 130\, and
	 133 will be printed in hard copy. In this informational session\, we will
	 discuss how to eﬀectively move through and access information within Po
	rtable Document Format (PDF) NIST OWM Handbooks. We will demonstrate how a
	 NIST Handbook publication in a PDF ﬁle format can be displayed using va
	rious tools and features\, including page navigation\, bookmarks\, search 
	functions\, links\, and document structure\, enabling them to quickly loca
	te speciﬁc content within complex PDF documents\, often utilizing a PDF 
	reader like Adobe Acrobat.\n\n \n\nDate: June 26\, 2025\n\nTime:  2:00 to 
	3:00 p.m. Eastern Time\n\nOWM Technical Contact: Isabel Chavez Baucom\n\n_
	__________________________________________________________________________
	_____\n\nMicrosoft Teams Need help? <https://aka.ms/JoinTeamsMeeting?omkt=
	en-US>  \n\nJoin the meeting now <https://teams.microsoft.com/l/meetup-joi
	n/19%3ameeting_MzA0ZmQ5ZTEtYzk3Ny00MGZlLThlOTMtMGU0YmEyOWE0Nzkz%40thread.v
	2/0?context=%7b%22Tid%22%3a%222ab5d82f-d8fa-4797-a93e-054655c61dec%22%2c%2
	2Oid%22%3a%228c661c80-c323-4f02-9de8-91b3e0837082%22%7d>  \n\nMeeting ID: 
	232 456 423 056 \n\nPasscode: Up7JY9fK \n\n_______________________________
	_\n\nDial in by phone \n\n+1 443-339-4347\,\,21415533# <tel:+14433394347\,
	\,21415533>  United States\, Sherwood Forest \n\nFind a local number <http
	s://dialin.teams.microsoft.com/292b8cb3-df78-4db2-b335-f5296905ed36?id=214
	15533>  \n\nPhone conference ID: 214 155 33# \n\nJoin on a video conferenc
	ing device \n\nTenant key: teams@join.nist.gov <mailto:teams@join.nist.gov
	>  \n\nVideo ID: 114 699 560 5 \n\nMore info <https://dialinfo.pexgov.com/
	?conf=1146995605&ivr=teams&d=join.nist.gov>  \n\nFor organizers: Meeting o
	ptions <https://teams.microsoft.com/meetingOptions/?organizerId=8c661c80-c
	323-4f02-9de8-91b3e0837082&tenantId=2ab5d82f-d8fa-4797-a93e-054655c61dec&t
	hreadId=19_meeting_MzA0ZmQ5ZTEtYzk3Ny00MGZlLThlOTMtMGU0YmEyOWE0Nzkz@thread
	.v2&messageId=0&language=en-US>  | Reset dial-in PIN <https://dialin.teams
	.microsoft.com/usp/pstnconferencing>  \n\nPlease Read Before Joining This 
	Meeting: When joining NIST-hosted meetings\, all participants\, including 
	guests\, are asked to refrain from recording the meeting by electronic mea
	ns without prior written approval from the meeting host. This includes but
	 is not limited to\, no audio\, video\, and screen recordings made using a
	ny device or third-party application.\n\nAdditionally\, if the meeting hos
	t chooses to record the meeting\, advance notice (i.e.\, prior to recordin
	g) must be provided to all participants\, and participants should be perio
	dically reminded that the meeting is being recorded.\n\n__________________
	______________________________________________________________\n\n \n\n
DTEND;TZID="Eastern Standard Time":20250624T150000
DTSTAMP:20250331T173352Z
DTSTART;TZID="Eastern Standard Time":20250624T140000
LAST-MODIFIED:20250401T112407Z
LOCATION:Microsoft Teams Meeting
ORGANIZER;CN="Baucom, Isabel Chavez (Fed)":mailto:isabel.chavez.baucom@nist
	.gov
PRIORITY:5
SEQUENCE:1
SUMMARY;LANGUAGE=en-us:Info Hour: Tips and Tools for Navigating the PDF Ele
	ctronic Version of NIST Handbooks
TRANSP:OPAQUE
UID:040000008200E00074C5B7101A82E0080000000000FFF0463FA2DB01000000000000000
	010000000D61120504B6F0543B5FFE266FAA3C68D
X-ALT-DESC;FMTTYPE=text/html:<html xmlns:v="urn:schemas-microsoft-com:vml" 
	xmlns:o="urn:schemas-microsoft-com:office:office" xmlns:w="urn:schemas-mic
	rosoft-com:office:word" xmlns:m="http://schemas.microsoft.com/office/2004/
	12/omml" xmlns="http://www.w3.org/TR/REC-html40"><head><meta name=Generato
	r content="Microsoft Word 15 (filtered medium)"><!--[if !mso]><style>v\\:*
	 {behavior:url(#default#VML)\;}\no\\:* {behavior:url(#default#VML)\;}\nw\\
	:* {behavior:url(#default#VML)\;}\n.shape {behavior:url(#default#VML)\;}\n
	</style><![endif]--><style><!--\n/* Font Definitions */\n@font-face\n	{fon
	t-family:"Cambria Math"\;\n	panose-1:2 4 5 3 5 4 6 3 2 4\;}\n@font-face\n	
	{font-family:Calibri\;\n	panose-1:2 15 5 2 2 2 4 3 2 4\;}\n@font-face\n	{f
	ont-family:Aptos\;}\n@font-face\n	{font-family:"Segoe UI"\;\n	panose-1:2 1
	1 5 2 4 2 4 2 2 3\;}\n@font-face\n	{font-family:"Trebuchet MS"\;\n	panose-
	1:2 11 6 3 2 2 2 2 2 4\;}\n/* Style Definitions */\np.MsoNormal\, li.MsoNo
	rmal\, div.MsoNormal\n	{margin:0in\;\n	font-size:11.0pt\;\n	font-family:"A
	ptos"\,sans-serif\;\n	mso-ligatures:standardcontextual\;}\na:link\, span.M
	soHyperlink\n	{mso-style-priority:99\;\n	color:#467886\;\n	text-decoration
	:underline\;}\nspan.EmailStyle18\n	{mso-style-type:personal-compose\;\n	fo
	nt-family:"Aptos"\,sans-serif\;\n	color:windowtext\;}\nspan.me-email-text\
	n	{mso-style-name:me-email-text\;}\nspan.me-email-text-secondary\n	{mso-st
	yle-name:me-email-text-secondary\;}\nspan.me-email-headline\n	{mso-style-n
	ame:me-email-headline\;}\n.MsoChpDefault\n	{mso-style-type:export-only\;\n
		font-size:10.0pt\;\n	mso-ligatures:none\;}\n@page WordSection1\n	{size:8.
	5in 11.0in\;\n	margin:1.0in 1.0in 1.0in 1.0in\;}\ndiv.WordSection1\n	{page
	:WordSection1\;}\n--></style><!--[if gte mso 9]><xml>\n<o:shapedefaults v:
	ext="edit" spidmax="1026" />\n</xml><![endif]--><!--[if gte mso 9]><xml>\n
	<o:shapelayout v:ext="edit">\n<o:idmap v:ext="edit" data="1" />\n</o:shape
	layout></xml><![endif]--></head><body lang=EN-US link="#467886" vlink="#96
	607D" style='word-wrap:break-word'><div class=WordSection1><p class=MsoNor
	mal>This is the last year (2025) that NIST Handbooks 44\, 130\, and 133 wi
	ll be printed in hard copy.<span style='letter-spacing:4.0pt'> </span>In t
	his informational session\,<span style='letter-spacing:-.2pt'> </span>we<s
	pan style='letter-spacing:-.1pt'> </span>will<span style='letter-spacing:-
	.1pt'> </span>discuss<span style='letter-spacing:-.2pt'> </span>how<span s
	tyle='letter-spacing:-.1pt'> </span>to<span style='letter-spacing:-.1pt'> 
	</span>e<span style='font-family:"Arial"\,sans-serif'>ﬀ</span>ectively<s
	pan style='letter-spacing:-.1pt'> </span>move<span style='letter-spacing:-
	.1pt'> </span>through<span style='letter-spacing:-.2pt'> </span>and<span s
	tyle='letter-spacing:-.2pt'> </span>access<span style='letter-spacing:-.1p
	t'> </span>information<span style='letter-spacing:-.2pt'> </span>within<sp
	an style='letter-spacing:-.25pt'> </span>Portable<span style='letter-spaci
	ng:-.2pt'> </span>Document<span style='letter-spacing:-.15pt'> </span>Form
	at<span style='letter-spacing:-.15pt'> </span>(PDF) NIST OWM Handbooks.<sp
	an style='letter-spacing:2.0pt'> </span>We will demonstrate how a NIST Han
	dbook publication in a PDF ﬁle format can be displayed using various<spa
	n style='letter-spacing:-.05pt'> </span>tools<span style='letter-spacing:-
	.05pt'> </span>and<span style='letter-spacing:-.05pt'> </span>features\, i
	ncluding<span style='letter-spacing:-.05pt'> </span>page navigation\, book
	marks\,<span style='letter-spacing:-.05pt'> </span>search<span style='lett
	er-spacing:-.05pt'> </span>functions\, links\,<span style='letter-spacing:
	-.05pt'> </span>and document structure\, enabling them to quickly locate s
	peciﬁc content within complex PDF documents\, often utilizing a PDF read
	er like Adobe <span style='letter-spacing:-.1pt'>Acrobat.<o:p></o:p></span
	></p><p class=MsoNormal><span style='letter-spacing:-.1pt'><o:p>&nbsp\;</o
	:p></span></p><p><strong><span style='font-family:"Calibri"\,sans-serif'>D
	ate: June 26\, 2025</span></strong><o:p></o:p></p><p><strong><span style='
	font-family:"Calibri"\,sans-serif'>Time: &nbsp\;2:00 to 3:00 p.m. Eastern 
	Time</span></strong><o:p></o:p></p><p><strong><span style='font-family:"Ca
	libri"\,sans-serif'>OWM Technical Contact: </span></strong><b>Isabel<span 
	style='letter-spacing:-.05pt'> </span>Chavez<span style='letter-spacing:-.
	15pt'> </span><span style='letter-spacing:-.1pt'>Baucom</span></b><span st
	yle='font-size:10.0pt\;font-family:"Trebuchet MS"\,sans-serif'><o:p></o:p>
	</span></p><div><div style='margin-bottom:.25in\;overflow:hidden'><p class
	=MsoNormal><span style='font-family:"Segoe UI"\,sans-serif\;color:#242424'
	>_________________________________________________________________________
	_______</span><span style='font-size:12.0pt\;font-family:"Segoe UI"\,sans-
	serif\;color:#242424\;mso-ligatures:none'><o:p></o:p></span></p></div><div
	 style='margin-bottom:9.0pt'><p class=MsoNormal><span class=me-email-text>
	<b><span style='font-size:18.0pt\;font-family:"Segoe UI"\,sans-serif\;colo
	r:#242424'>Microsoft Teams</span></b></span><span style='font-family:"Sego
	e UI"\,sans-serif\;color:#242424'> <a href="https://aka.ms/JoinTeamsMeetin
	g?omkt=en-US"><span style='font-size:10.5pt\;color:#5B5FC7'>Need help?</sp
	an></a> <o:p></o:p></span></p></div><div style='margin-bottom:4.5pt'><p cl
	ass=MsoNormal><span style='font-family:"Segoe UI"\,sans-serif\;color:#2424
	24'><a href="https://teams.microsoft.com/l/meetup-join/19%3ameeting_MzA0Zm
	Q5ZTEtYzk3Ny00MGZlLThlOTMtMGU0YmEyOWE0Nzkz%40thread.v2/0?context=%7b%22Tid
	%22%3a%222ab5d82f-d8fa-4797-a93e-054655c61dec%22%2c%22Oid%22%3a%228c661c80
	-c323-4f02-9de8-91b3e0837082%22%7d" target="_blank" title="Meeting join li
	nk"><b><span style='font-size:15.0pt\;color:#5B5FC7'>Join the meeting now<
	/span></b></a> <o:p></o:p></span></p></div><div style='margin-bottom:4.5pt
	'><p class=MsoNormal><span class=me-email-text-secondary><span style='font
	-size:10.5pt\;font-family:"Segoe UI"\,sans-serif\;color:#616161'>Meeting I
	D: </span></span><span class=me-email-text><span style='font-size:10.5pt\;
	font-family:"Segoe UI"\,sans-serif\;color:#242424'>232 456 423 056</span><
	/span><span style='font-family:"Segoe UI"\,sans-serif\;color:#242424'> <o:
	p></o:p></span></p></div><div style='margin-bottom:.25in'><p class=MsoNorm
	al><span class=me-email-text-secondary><span style='font-size:10.5pt\;font
	-family:"Segoe UI"\,sans-serif\;color:#616161'>Passcode: </span></span><sp
	an class=me-email-text><span style='font-size:10.5pt\;font-family:"Segoe U
	I"\,sans-serif\;color:#242424'>Up7JY9fK</span></span><span style='font-fam
	ily:"Segoe UI"\,sans-serif\;color:#242424'> <o:p></o:p></span></p></div><d
	iv style='margin-bottom:.25in'><div class=MsoNormal align=center style='te
	xt-align:center'><span style='font-family:"Segoe UI"\,sans-serif\;color:#2
	42424'><hr size=1 width="100%" align=center></span></div></div><div><div s
	tyle='margin-bottom:4.5pt'><p class=MsoNormal><span class=me-email-text><b
	><span style='font-family:"Segoe UI"\,sans-serif\;color:#242424'>Dial in b
	y phone</span></b></span><span style='font-family:"Segoe UI"\,sans-serif\;
	color:#242424'> <o:p></o:p></span></p></div><div style='margin-bottom:4.5p
	t'><p class=MsoNormal><span style='font-family:"Segoe UI"\,sans-serif\;col
	or:#242424'><a href="tel:+14433394347\,\,21415533"><span style='font-size:
	10.5pt\;color:#5B5FC7'>+1 443-339-4347\,\,21415533#</span></a> </span><spa
	n class=me-email-text><span style='font-size:10.5pt\;font-family:"Segoe UI
	"\,sans-serif\;color:#616161'>United States\, Sherwood Forest</span></span
	><span style='font-family:"Segoe UI"\,sans-serif\;color:#242424'> <o:p></o
	:p></span></p></div><div style='margin-bottom:4.5pt'><p class=MsoNormal><s
	pan style='font-family:"Segoe UI"\,sans-serif\;color:#242424'><a href="htt
	ps://dialin.teams.microsoft.com/292b8cb3-df78-4db2-b335-f5296905ed36?id=21
	415533"><span style='font-size:10.5pt\;color:#5B5FC7'>Find a local number<
	/span></a> <o:p></o:p></span></p></div></div><div style='margin-bottom:.25
	in'><p class=MsoNormal><span class=me-email-text-secondary><span style='fo
	nt-size:10.5pt\;font-family:"Segoe UI"\,sans-serif\;color:#616161'>Phone c
	onference ID: </span></span><span class=me-email-text><span style='font-si
	ze:10.5pt\;font-family:"Segoe UI"\,sans-serif\;color:#242424'>214 155 33#<
	/span></span><span style='font-family:"Segoe UI"\,sans-serif\;color:#24242
	4'> <o:p></o:p></span></p></div><div style='margin-bottom:4.5pt'><p class=
	MsoNormal><span class=me-email-headline><b><span style='font-family:"Segoe
	 UI"\,sans-serif\;color:#242424'>Join on a video conferencing device</span
	></b></span><span style='font-family:"Segoe UI"\,sans-serif\;color:#242424
	'> <o:p></o:p></span></p></div><div style='margin-bottom:4.5pt'><p class=M
	soNormal><span class=me-email-text><span style='font-size:10.5pt\;font-fam
	ily:"Segoe UI"\,sans-serif\;color:#616161'>Tenant key: </span></span><span
	 class=me-email-text><span style='font-size:10.5pt\;font-family:"Segoe UI"
	\,sans-serif\;color:#242424'><a href="mailto:teams@join.nist.gov">teams@jo
	in.nist.gov</a></span></span><span style='font-family:"Segoe UI"\,sans-ser
	if\;color:#242424'> <o:p></o:p></span></p></div><div style='margin-bottom:
	4.5pt'><p class=MsoNormal><span class=me-email-text-secondary><span style=
	'font-size:10.5pt\;font-family:"Segoe UI"\,sans-serif\;color:#616161'>Vide
	o ID: </span></span><span class=me-email-text><span style='font-size:10.5p
	t\;font-family:"Segoe UI"\,sans-serif\;color:#242424'>114 699 560 5</span>
	</span><span style='font-family:"Segoe UI"\,sans-serif\;color:#242424'> <o
	:p></o:p></span></p></div><div style='margin-bottom:.25in'><p class=MsoNor
	mal><span style='font-family:"Segoe UI"\,sans-serif\;color:#242424'><a hre
	f="https://dialinfo.pexgov.com/?conf=1146995605&amp\;ivr=teams&amp\;d=join
	.nist.gov" target="_blank"><span style='font-size:10.5pt\;color:#5B5FC7'>M
	ore info</span></a> <o:p></o:p></span></p></div><div><p class=MsoNormal><s
	pan class=me-email-text-secondary><span style='font-size:10.5pt\;font-fami
	ly:"Segoe UI"\,sans-serif\;color:#616161'>For organizers: </span></span><s
	pan style='font-family:"Segoe UI"\,sans-serif\;color:#242424'><a href="htt
	ps://teams.microsoft.com/meetingOptions/?organizerId=8c661c80-c323-4f02-9d
	e8-91b3e0837082&amp\;tenantId=2ab5d82f-d8fa-4797-a93e-054655c61dec&amp\;th
	readId=19_meeting_MzA0ZmQ5ZTEtYzk3Ny00MGZlLThlOTMtMGU0YmEyOWE0Nzkz@thread.
	v2&amp\;messageId=0&amp\;language=en-US" target="_blank"><span style='font
	-size:10.5pt\;color:#5B5FC7'>Meeting options</span></a> </span><span style
	='font-family:"Segoe UI"\,sans-serif\;color:#D1D1D1'>|</span><span style='
	font-family:"Segoe UI"\,sans-serif\;color:#242424'> <a href="https://diali
	n.teams.microsoft.com/usp/pstnconferencing" target="_blank"><span style='f
	ont-size:10.5pt\;color:#5B5FC7'>Reset dial-in PIN</span></a> <o:p></o:p></
	span></p></div><div style='margin-top:.25in\;margin-bottom:4.5pt'><div><di
	v style='border:solid black 3.0pt\;padding:6.0pt 6.0pt 6.0pt 6.0pt'><p><st
	rong><span style='font-size:10.5pt\;font-family:"Segoe UI"\,sans-serif\;co
	lor:#616161'>Please Read Before Joining This Meeting:</span></strong><span
	 style='font-size:10.5pt\;font-family:"Segoe UI"\,sans-serif\;color:#61616
	1'> When joining NIST-hosted meetings\, all participants\, including guest
	s\, are asked to refrain from recording the meeting by electronic means wi
	thout prior written approval from the meeting host. This includes but is n
	ot limited to\, no audio\, video\, and screen recordings made using any de
	vice or third-party application.<br><br>Additionally\, if the meeting host
	 chooses to record the meeting\, advance notice (i.e.\, prior to recording
	) must be provided to all participants\, and participants should be period
	ically reminded that the meeting is being recorded.<o:p></o:p></span></p><
	/div></div></div><div style='margin-bottom:.25in\;overflow:hidden'><p clas
	s=MsoNormal><span style='font-family:"Segoe UI"\,sans-serif\;color:#242424
	'>________________________________________________________________________
	________</span><span style='font-size:12.0pt\;font-family:"Segoe UI"\,sans
	-serif\;color:#242424'><o:p></o:p></span></p></div></div><p class=MsoNorma
	l><o:p>&nbsp\;</o:p></p></div></body></html>
X-MICROSOFT-CDO-BUSYSTATUS:BUSY
X-MICROSOFT-CDO-IMPORTANCE:1
X-MICROSOFT-DISALLOW-COUNTER:FALSE
X-MS-OLK-APPTLASTSEQUENCE:1
X-MS-OLK-APPTSEQTIME:20250331T173352Z
X-MS-OLK-AUTOFILLLOCATION:FALSE
X-MS-OLK-CONFTYPE:0
BEGIN:VALARM
TRIGGER:-PT60M
ACTION:DISPLAY
DESCRIPTION:Reminder
END:VALARM
END:VEVENT
END:VCALENDAR
