BEGIN:VCALENDAR
PRODID:-//Microsoft Corporation//Outlook 16.0 MIMEDIR//EN
VERSION:2.0
METHOD:REQUEST
X-MS-OLK-FORCEINSPECTOROPEN:TRUE
BEGIN:VTIMEZONE
TZID:Eastern Standard Time
BEGIN:STANDARD
DTSTART:16011104T020000
RRULE:FREQ=YEARLY;BYDAY=1SU;BYMONTH=11
TZOFFSETFROM:-0400
TZOFFSETTO:-0500
END:STANDARD
BEGIN:DAYLIGHT
DTSTART:16010311T020000
RRULE:FREQ=YEARLY;BYDAY=2SU;BYMONTH=3
TZOFFSETFROM:-0500
TZOFFSETTO:-0400
END:DAYLIGHT
END:VTIMEZONE
BEGIN:VEVENT
ATTENDEE;CN="Rigopoulos, Kristina G. (Fed)";ROLE=OPT-PARTICIPANT;RSVP=FALSE
	:mailto:kristina.rigopoulos@nist.gov
ATTENDEE;CN="Petersen, Rodney J. (Fed)";RSVP=FALSE:mailto:rodney.petersen@c
	hips.gov
ATTENDEE;CN="Santos, Danielle R. (Fed)";RSVP=FALSE:mailto:danielle.santos@n
	ist.gov
ATTENDEE;CN="Barraza, Susana (Fed)";RSVP=FALSE:mailto:susana.barraza@nist.g
	ov
ATTENDEE;CN="Goldstein Menachem";RSVP=FALSE:mailto:Goldstein.Menachem@pbgc.
	gov
ATTENDEE;CN="PREMO, MAUREEN";RSVP=FALSE:mailto:MAUREEN.PREMO@cisa.dhs.gov
ATTENDEE;CN="Hansche, Susan";RSVP=FALSE:mailto:susan.hansche@cisa.dhs.gov
CLASS:PUBLIC
CREATED:20230502T163537Z
DESCRIPTION:_______________________________________________________________
	_________________ \nMicrosoft Teams meeting \nJoin on your computer\, mobi
	le app or room device \nClick here to join the meeting <https://teams.micr
	osoft.com/l/meetup-join/19%3ameeting_ZDQ1MjY0YTYtMThhNS00NzJhLTkzNGUtNDQ4Z
	GFjZmQ0ZGM0%40thread.v2/0?context=%7b%22Tid%22%3a%222ab5d82f-d8fa-4797-a93
	e-054655c61dec%22%2c%22Oid%22%3a%2226334e49-f2dd-4a18-95f5-a684469324c5%22
	%7d>  \nMeeting ID: 280 245 177 776 \nPasscode: PftFvm \nDownload Teams <h
	ttps://www.microsoft.com/en-us/microsoft-teams/download-app>  | Join on th
	e web <https://www.microsoft.com/microsoft-teams/join-a-meeting> \nOr call
	 in (audio only) \n+1 202-847-6642\,\,705522990# <tel:+12028476642\,\,7055
	22990#>    United States\, Washington DC \nPhone Conference ID: 705 522 99
	0# \nFind a local number <https://dialin.teams.microsoft.com/292b8cb3-df78
	-4db2-b335-f5296905ed36?id=705522990>  | Reset PIN <https://dialin.teams.m
	icrosoft.com/usp/pstnconferencing>  \nLearn More <https://aka.ms/JoinTeams
	Meeting>  | Meeting options <https://teams.microsoft.com/meetingOptions/?o
	rganizerId=26334e49-f2dd-4a18-95f5-a684469324c5&tenantId=2ab5d82f-d8fa-479
	7-a93e-054655c61dec&threadId=19_meeting_ZDQ1MjY0YTYtMThhNS00NzJhLTkzNGUtND
	Q4ZGFjZmQ0ZGM0@thread.v2&messageId=0&language=en-US>  \n__________________
	______________________________________________________________ \n\n \n\n
DTEND;TZID="Eastern Standard Time":20230823T160000
DTSTAMP:20221031T111904Z
DTSTART;TZID="Eastern Standard Time":20230823T130000
LAST-MODIFIED:20230502T163537Z
ORGANIZER;CN="Watson, Calvin L. (Fed)":mailto:calvin.watson@nist.gov
PRIORITY:5
SEQUENCE:1
SUMMARY;LANGUAGE=en-us:Hold: 2023 FISSEA Summer Forum 
TRANSP:OPAQUE
UID:040000008200E00074C5B7101A82E00800000000D0C26C8616E3D801000000000000000
	010000000A41B581ECC5B7B448C595B0C12885A21
X-ALT-DESC;FMTTYPE=text/html:<html xmlns:v="urn:schemas-microsoft-com:vml" 
	xmlns:o="urn:schemas-microsoft-com:office:office" xmlns:w="urn:schemas-mic
	rosoft-com:office:word" xmlns:m="http://schemas.microsoft.com/office/2004/
	12/omml" xmlns="http://www.w3.org/TR/REC-html40">\n<head>\n\n<meta name="G
	enerator" content="Microsoft Word 15 (filtered medium)">\n<style><!--\n/* 
	Font Definitions */\n@font-face\n	{font-family:"Cambria Math"\;\n	panose-1
	:2 4 5 3 5 4 6 3 2 4\;}\n@font-face\n	{font-family:Calibri\;\n	panose-1:2 
	15 5 2 2 2 4 3 2 4\;}\n/* Style Definitions */\np.MsoNormal\, li.MsoNormal
	\, div.MsoNormal\n	{margin:0in\;\n	font-size:11.0pt\;\n	font-family:"Calib
	ri"\,sans-serif\;}\nspan.EmailStyle17\n	{mso-style-type:personal-compose\;
	\n	font-family:"Calibri"\,sans-serif\;\n	color:windowtext\;}\n.MsoChpDefau
	lt\n	{mso-style-type:export-only\;\n	font-family:"Calibri"\,sans-serif\;}\
	n@page WordSection1\n	{size:8.5in 11.0in\;\n	margin:1.0in 1.0in 1.0in 1.0i
	n\;}\ndiv.WordSection1\n	{page:WordSection1\;}\n--></style><!--[if gte mso
	 9]><xml>\n<o:shapedefaults v:ext="edit" spidmax="1026" />\n</xml><![endif
	]--><!--[if gte mso 9]><xml>\n<o:shapelayout v:ext="edit">\n<o:idmap v:ext
	="edit" data="1" />\n</o:shapelayout></xml><![endif]-->\n</head>\n<body la
	ng="EN-US" link="#0563C1" vlink="#954F72" style="word-wrap:break-word">\n<
	div style="width:100%\;height: 20px\;"><span style="white-space:nowrap\;co
	lor:#5F5F5F\;opacity:.36\;">______________________________________________
	__________________________________</span>\n</div>\n<div class="me-email-te
	xt" style="color:#252424\;font-family:'Segoe UI'\,'Helvetica Neue'\,Helvet
	ica\,Arial\,sans-serif\;" lang="en-US">\n<div style="margin-top: 24px\; ma
	rgin-bottom: 20px\;"><span style="font-size: 24px\; color:#252424">Microso
	ft Teams meeting</span>\n</div>\n<div style="margin-bottom: 20px\;">\n<div
	 style="margin-top: 0px\; margin-bottom: 0px\; font-weight: bold"><span st
	yle="font-size: 14px\; color:#252424">Join on your computer\, mobile app o
	r room device</span>\n</div>\n<a class="me-email-headline" style="font-siz
	e: 14px\;font-family:'Segoe UI Semibold'\,'Segoe UI'\,'Helvetica Neue'\,He
	lvetica\,Arial\,sans-serif\;text-decoration: underline\;color: #6264a7\;" 
	href="https://teams.microsoft.com/l/meetup-join/19%3ameeting_ZDQ1MjY0YTYtM
	ThhNS00NzJhLTkzNGUtNDQ4ZGFjZmQ0ZGM0%40thread.v2/0?context=%7b%22Tid%22%3a%
	222ab5d82f-d8fa-4797-a93e-054655c61dec%22%2c%22Oid%22%3a%2226334e49-f2dd-4
	a18-95f5-a684469324c5%22%7d" target="_blank" rel="noreferrer noopener">Cli
	ck\n here to join the meeting</a> </div>\n<div style="margin-bottom:20px\;
	 margin-top:20px">\n<div style="margin-bottom:4px"><span data-tid="meeting
	-code" style="font-size: 14px\; color:#252424\;">Meeting ID:\n<span style=
	"font-size:16px\; color:#252424\;">280 245 177 776</span> </span><br>\n<sp
	an style="font-size: 14px\; color:#252424\;">Passcode: </span><span style=
	"font-size: 16px\; color:#252424\;">PftFvm\n</span>\n<div style="font-size
	: 14px\;"><a class="me-email-link" style="font-size: 14px\;text-decoration
	: underline\;color: #6264a7\;font-family:'Segoe UI'\,'Helvetica Neue'\,Hel
	vetica\,Arial\,sans-serif\;" target="_blank" href="https://www.microsoft.c
	om/en-us/microsoft-teams/download-app" rel="noreferrer noopener">Download\
	n Teams</a> | <a class="me-email-link" style="font-size: 14px\;text-decora
	tion: underline\;color: #6264a7\;font-family:'Segoe UI'\,'Helvetica Neue'\
	,Helvetica\,Arial\,sans-serif\;" target="_blank" href="https://www.microso
	ft.com/microsoft-teams/join-a-meeting" rel="noreferrer noopener">\nJoin on
	 the web</a></div>\n</div>\n</div>\n<div style="margin-bottom: 4px\;">\n<d
	iv style="margin-bottom: 4px\;"><span style="font-size: 14px\; color:#2524
	24\; font-weight: bold">Or call in (audio only)</span>\n</div>\n<div style
	="margin-bottom: 4px\;"><a style="font-size: 14px\;text-decoration: underl
	ine\;color: #6264a7\;" href="tel:+12028476642\,\,705522990# ">+1 202-847-6
	642\,\,705522990#</a>\n<span style="font-size: 14px\; color:#252424\;">&nb
	sp\; United States\, Washington DC </span>\n</div>\n</div>\n<span style="f
	ont-size: 14px\; color:#252424\;">Phone Conference ID: </span><span style=
	"font-size: 16px\; color:#252424\;">705 522 990#\n</span>\n<div style="mar
	gin-bottom: 20px\;"><a class="me-email-link" style="font-size: 14px\;text-
	decoration: underline\;color: #6264a7\;font-family:'Segoe UI'\,'Helvetica 
	Neue'\,Helvetica\,Arial\,sans-serif\;" target="_blank" href="https://diali
	n.teams.microsoft.com/292b8cb3-df78-4db2-b335-f5296905ed36?id=705522990" r
	el="noreferrer noopener">Find\n a local number</a> | <a class="me-email-li
	nk" style="font-size: 14px\;text-decoration: underline\;color: #6264a7\;" 
	target="_blank" href="https://dialin.teams.microsoft.com/usp/pstnconferenc
	ing" rel="noreferrer noopener">\nReset PIN</a> </div>\n<div style="margin-
	bottom: 24px\;margin-top: 20px\;"><a class="me-email-link" style="font-siz
	e: 14px\;text-decoration: underline\;color: #6264a7\;font-family:'Segoe UI
	'\,'Helvetica Neue'\,Helvetica\,Arial\,sans-serif\;" target="_blank" href=
	"https://aka.ms/JoinTeamsMeeting" rel="noreferrer noopener">Learn\n More</
	a> | <a class="me-email-link" style="font-size: 14px\;text-decoration: und
	erline\;color: #6264a7\;font-family:'Segoe UI'\,'Helvetica Neue'\,Helvetic
	a\,Arial\,sans-serif\;" target="_blank" href="https://teams.microsoft.com/
	meetingOptions/?organizerId=26334e49-f2dd-4a18-95f5-a684469324c5&amp\;tena
	ntId=2ab5d82f-d8fa-4797-a93e-054655c61dec&amp\;threadId=19_meeting_ZDQ1MjY
	0YTYtMThhNS00NzJhLTkzNGUtNDQ4ZGFjZmQ0ZGM0@thread.v2&amp\;messageId=0&amp\;
	language=en-US" rel="noreferrer noopener">\nMeeting options</a> </div>\n</
	div>\n<div style="font-size: 14px\; margin-bottom: 4px\;font-family:'Segoe
	 UI'\,'Helvetica Neue'\,Helvetica\,Arial\,sans-serif\;">\n</div>\n<div sty
	le="font-size: 12px\;"></div>\n<div></div>\n<div style="width:100%\;height
	: 20px\;"><span style="white-space:nowrap\;color:#5F5F5F\;opacity:.36\;">_
	__________________________________________________________________________
	_____</span>\n</div>\n<div>\n<div class="WordSection1">\n<p class="MsoNorm
	al"><o:p>&nbsp\;</o:p></p>\n</div>\n</div>\n</body>\n</html>\n
X-MICROSOFT-CDO-BUSYSTATUS:BUSY
X-MICROSOFT-CDO-IMPORTANCE:1
X-MICROSOFT-DISALLOW-COUNTER:TRUE
X-MS-OLK-APPTLASTSEQUENCE:1
X-MS-OLK-APPTSEQTIME:20221031T111904Z
X-MS-OLK-AUTOFILLLOCATION:TRUE
X-MS-OLK-CONFTYPE:0
BEGIN:VALARM
TRIGGER:-PT15M
ACTION:DISPLAY
DESCRIPTION:Reminder
END:VALARM
END:VEVENT
END:VCALENDAR
